BEGIN:VCALENDAR
VERSION:2.0
PRODID: -//Ximian//NONSGML Evolution Calendar//EN
CALSCALE:GREGORIAN
METHOD:PUBLISH
BEGIN:VEVENT
UID:69ec0be1613b52.89188514@myapp
DTSTAMP:20260425T003337Z
DTSTART;VALUE=DATE:20210524
DTEND;VALUE=DATE:20210816
SUMMARY: Выставка «Готика. Барокко. Модерн» 
DESCRIPTION: Картины юных художников детской школы искусств №3 Воскресенска можно будет увидеть в усадьбе Кривякино.
LOCATION: Парк усадьбы Кривякино
END:VEVENT
END:VCALENDAR
