BEGIN:VCALENDAR
VERSION:2.0
PRODID: -//Ximian//NONSGML Evolution Calendar//EN
CALSCALE:GREGORIAN
METHOD:PUBLISH
BEGIN:VEVENT
UID:69eae93ba23603.00407686@myapp
DTSTAMP:20260424T035331Z
DTSTART:20230408T160000Z
DTEND:20230408T180000Z
SUMMARY: Концерт Сергея Пенкина в Егорьевске
DESCRIPTION: Во дворце культуры им. Г. Конина в Егорьевске 8 апреля состоится концерт Сергея Пенкина. Артист представит программу «Полетели со мной».
LOCATION: Дворец культуры имени Г. Конина
END:VEVENT
END:VCALENDAR
