BEGIN:VCALENDAR
VERSION:2.0
PRODID: -//Ximian//NONSGML Evolution Calendar//EN
CALSCALE:GREGORIAN
METHOD:PUBLISH
BEGIN:VEVENT
UID:69e6c9da27ddf5.74664164@myapp
DTSTAMP:20260421T005034Z
DTSTART;VALUE=DATE:20210826
DTEND;VALUE=DATE:20210830
SUMMARY: Гастрономический фестиваль «Сыр. Пир. Мир»
DESCRIPTION: Фермеры со всей России представят свою продукцию гостям с 26 по 29 августа в Истре.
LOCATION: Сыроварня «Русский пармезан»
END:VEVENT
END:VCALENDAR
