BEGIN:VCALENDAR
VERSION:2.0
PRODID: -//Ximian//NONSGML Evolution Calendar//EN
CALSCALE:GREGORIAN
METHOD:PUBLISH
BEGIN:VEVENT
UID:69e742a28a0e62.82729285@myapp
DTSTAMP:20260421T092554Z
DTSTART;VALUE=DATE:20230319
DTEND;VALUE=DATE:20230327
SUMMARY: Фестиваль «Долгопрудненская весна – 2023»
DESCRIPTION: VII Открытый Московский областной театральный фестиваль студий, коллективов, объединений и любительских театров «Долгопрудненская весна – 2023» пройдет в театре «Город» с 19 по 26 марта.
LOCATION: Театр «Город»
END:VEVENT
END:VCALENDAR
