BEGIN:VCALENDAR
VERSION:2.0
PRODID: -//Ximian//NONSGML Evolution Calendar//EN
CALSCALE:GREGORIAN
METHOD:PUBLISH
BEGIN:VEVENT
UID:69eb2a5c53f1d2.61215100@myapp
DTSTAMP:20260424T083124Z
DTSTART:20210612T090000Z
DTEND:20210612T110000Z
SUMMARY: Концерт ансамбля «Садко» в Клину
DESCRIPTION: В городе Клин в рамках празднования Дня России состоится два концерта ансамбля русской музыки и танца «Садко». 
LOCATION: Парк культуры и отдыха «Сестрорецкий»
END:VEVENT
END:VCALENDAR
