BEGIN:VCALENDAR
VERSION:2.0
PRODID: -//Ximian//NONSGML Evolution Calendar//EN
CALSCALE:GREGORIAN
METHOD:PUBLISH
BEGIN:VEVENT
UID:69e748ada63dc3.81970011@myapp
DTSTAMP:20260421T095141Z
DTSTART:20230408T110000Z
DTEND:20230408T130000Z
SUMMARY: «Тотальный диктант» в Луховицах
DESCRIPTION: В этом году акция пройдет в двадцатый раз.
LOCATION: Луховицкая межпоселенческая библиотека им. поэта И. И. Морозова
END:VEVENT
END:VCALENDAR
