BEGIN:VCALENDAR
VERSION:2.0
PRODID: -//Ximian//NONSGML Evolution Calendar//EN
CALSCALE:GREGORIAN
METHOD:PUBLISH
BEGIN:VEVENT
UID:69ecb11cd74127.15424119@myapp
DTSTAMP:20260425T121836Z
DTSTART;VALUE=DATE:20210605
DTEND;VALUE=DATE:20210906
SUMMARY: Выставка «Когда цветет гранат...Хранители традиций Узбекистана»
DESCRIPTION: Экспозицию можно увидеть в музее-лаборатории «Шелковая фабрика» до 5 сентября.
LOCATION: Музей-лаборатория «Шелковая фабрика» 
END:VEVENT
END:VCALENDAR
