BEGIN:VCALENDAR
VERSION:2.0
PRODID: -//Ximian//NONSGML Evolution Calendar//EN
CALSCALE:GREGORIAN
METHOD:PUBLISH
BEGIN:VEVENT
UID:69ec0bc26028e2.79497817@myapp
DTSTAMP:20260425T003306Z
DTSTART;VALUE=DATE:20210623
DTEND;VALUE=DATE:20210720
SUMMARY: Выставка батика «Шелковый ветер»
DESCRIPTION: В выставочном зале города Орехово-Зуево с 23 июня по 19 июля 2021 года работает выставка «Шелковый ветер». В экспозиции представлены работы художника и дизайнера Романа Захарова.
LOCATION: Выставочный зал г. Орехово-Зуево
END:VEVENT
END:VCALENDAR
