BEGIN:VCALENDAR
VERSION:2.0
PRODID: -//Ximian//NONSGML Evolution Calendar//EN
CALSCALE:GREGORIAN
METHOD:PUBLISH
BEGIN:VEVENT
UID:69e8b9e3dd1cf7.37853942@myapp
DTSTAMP:20260422T120659Z
DTSTART:20230604T090000Z
DTEND:20230604T100000Z
SUMMARY: Спектакль «Василиса Прекрасная»
DESCRIPTION: Это захватывающее представление станет лучшим подарком для детей и их родителей! 
LOCATION: Центральный дворец культуры городского округа Щелково
END:VEVENT
END:VCALENDAR
