BEGIN:VCALENDAR
VERSION:2.0
PRODID: -//Ximian//NONSGML Evolution Calendar//EN
CALSCALE:GREGORIAN
METHOD:PUBLISH
BEGIN:VEVENT
UID:69ec0bc2601197.27439473@myapp
DTSTAMP:20260425T003306Z
DTSTART;VALUE=DATE:20210712
DTEND;VALUE=DATE:20210901
SUMMARY: «Егорьевские гулянья»
DESCRIPTION: Интерактивные экскурсии с элементами квеста пройдут с 12 июля по 31 августа.
LOCATION: Егорьевский историко-художественный музей
END:VEVENT
END:VCALENDAR
