BEGIN:VCALENDAR
VERSION:2.0
PRODID: -//Ximian//NONSGML Evolution Calendar//EN
CALSCALE:GREGORIAN
METHOD:PUBLISH
BEGIN:VEVENT
UID:69ecdf0c1a1c74.57426952@myapp
DTSTAMP:20260425T153436Z
DTSTART:20210724T110000Z
DTEND:20210724T130000Z
SUMMARY: Пешеходная экскурсия «Звенигородский Барбизон»
DESCRIPTION: Звенигородский историко-архитектурный и художественный музей приглашает всех желающих принять участие в пешеходной экскурсии «Звенигородский Барбизон».
LOCATION: Звенигородский историко-архитектурный и художественный музей
END:VEVENT
BEGIN:VEVENT
UID:69ecdf0c1a1db9.54090893@myapp
DTSTAMP:20260425T153436Z
DTSTART:20210807T110000Z
DTEND:20210807T130000Z
SUMMARY: Пешеходная экскурсия «Звенигородский Барбизон»
DESCRIPTION: Звенигородский историко-архитектурный и художественный музей приглашает всех желающих принять участие в пешеходной экскурсии «Звенигородский Барбизон».
LOCATION: Звенигородский историко-архитектурный и художественный музей
END:VEVENT
BEGIN:VEVENT
UID:69ecdf0c1a1e66.36829381@myapp
DTSTAMP:20260425T153436Z
DTSTART:20210821T110000Z
DTEND:20210821T130000Z
SUMMARY: Пешеходная экскурсия «Звенигородский Барбизон»
DESCRIPTION: Звенигородский историко-архитектурный и художественный музей приглашает всех желающих принять участие в пешеходной экскурсии «Звенигородский Барбизон».
LOCATION: Звенигородский историко-архитектурный и художественный музей
END:VEVENT
END:VCALENDAR
