BEGIN:VCALENDAR
VERSION:2.0
PRODID: -//Ximian//NONSGML Evolution Calendar//EN
CALSCALE:GREGORIAN
METHOD:PUBLISH
BEGIN:VEVENT
UID:69ecb11d001289.21347053@myapp
DTSTAMP:20260425T121837Z
DTSTART:20210813T080000Z
DTEND:20210813T110000Z
SUMMARY: Августовские Спасы в доме-музее А.П. Гайдара
DESCRIPTION: Дом-музей Аркадия Гайдара в Клину приглашает жителей и гостей города посетить августовские Спасы – 13, 19 и 27 августа. 
LOCATION: Дом-музей А.П. Гайдара 
END:VEVENT
BEGIN:VEVENT
UID:69ecb11d0013c7.32115972@myapp
DTSTAMP:20260425T121837Z
DTSTART:20210819T080000Z
DTEND:20210819T110000Z
SUMMARY: Августовские Спасы в доме-музее А.П. Гайдара
DESCRIPTION: Дом-музей Аркадия Гайдара в Клину приглашает жителей и гостей города посетить августовские Спасы – 13, 19 и 27 августа. 
LOCATION: Дом-музей А.П. Гайдара 
END:VEVENT
BEGIN:VEVENT
UID:69ecb11d001465.99370389@myapp
DTSTAMP:20260425T121837Z
DTSTART:20210827T080000Z
DTEND:20210827T110000Z
SUMMARY: Августовские Спасы в доме-музее А.П. Гайдара
DESCRIPTION: Дом-музей Аркадия Гайдара в Клину приглашает жителей и гостей города посетить августовские Спасы – 13, 19 и 27 августа. 
LOCATION: Дом-музей А.П. Гайдара 
END:VEVENT
END:VCALENDAR
