BEGIN:VCALENDAR
VERSION:2.0
PRODID: -//Ximian//NONSGML Evolution Calendar//EN
CALSCALE:GREGORIAN
METHOD:PUBLISH
BEGIN:VEVENT
UID:69ecb11d24d1f5.05281050@myapp
DTSTAMP:20260425T121837Z
DTSTART;VALUE=DATE:20210801
DTEND;VALUE=DATE:20210917
SUMMARY: Выставка «Жизнь в творчестве»
DESCRIPTION: Выставочный зал им. Ю.В. Карапаева в Клину приглашает посетить выставку «Жизнь в творчестве» - в экспозиции представлены работы клинского художника Вячеслава Феоктистова. 
LOCATION: Выставочный зал им. Ю. В. Карапаева
END:VEVENT
END:VCALENDAR
