BEGIN:VCALENDAR
VERSION:2.0
PRODID: -//Ximian//NONSGML Evolution Calendar//EN
CALSCALE:GREGORIAN
METHOD:PUBLISH
BEGIN:VEVENT
UID:69e88e03cffe27.68701131@myapp
DTSTAMP:20260422T085947Z
DTSTART;VALUE=DATE:20230505
DTEND;VALUE=DATE:20230717
SUMMARY: Выставка «Посвящаю, любимый город, тебе!»
DESCRIPTION: В Павловском Посаде 5 мая открылась выставка живописи «Посвящаю, любимый город, тебе!».
LOCATION: Павлово-Посадская художественная галерея
END:VEVENT
END:VCALENDAR
