BEGIN:VCALENDAR
VERSION:2.0
PRODID: -//Ximian//NONSGML Evolution Calendar//EN
CALSCALE:GREGORIAN
METHOD:PUBLISH
BEGIN:VEVENT
UID:69eadef8623e86.34003157@myapp
DTSTAMP:20260424T030944Z
DTSTART:20230603T160000Z
DTEND:20230603T180000Z
SUMMARY: Спектакль «Дядя Ваня»
DESCRIPTION: Персонажи чеховской пьесы оживают в усадебных пейзажах Мелихова. 
LOCATION: Государственный литературно-мемориальный музей-заповедник А.П. Чехова «Мелихово»
END:VEVENT
END:VCALENDAR
