BEGIN:VCALENDAR
VERSION:2.0
PRODID: -//Ximian//NONSGML Evolution Calendar//EN
CALSCALE:GREGORIAN
METHOD:PUBLISH
BEGIN:VEVENT
UID:69e92e3fdef394.28488293@myapp
DTSTAMP:20260422T202327Z
DTSTART:20230603T073000Z
DTEND:20230603T150000Z
SUMMARY: Пушкинский праздник в усадьбе «Лопасня-Зачатьевское» 
DESCRIPTION: Мероприятие ежегодно проводится в усадебном доме в Лопасне, где часто и подолгу жили дети и внуки поэта.
LOCATION: Музей «Усадьба Лопасня-Зачатьевское»
END:VEVENT
END:VCALENDAR
