BEGIN:VCALENDAR
VERSION:2.0
PRODID: -//Ximian//NONSGML Evolution Calendar//EN
CALSCALE:GREGORIAN
METHOD:PUBLISH
BEGIN:VEVENT
UID:69e5e65660acc0.61506069@myapp
DTSTAMP:20260420T083950Z
DTSTART;VALUE=DATE:20201229
DTEND;VALUE=DATE:20210426
SUMMARY: Выставка «Небесная мастерская»
DESCRIPTION: Музейно-выставочный комплекс «Новый Иерусалим» представляет выставку «Небесная мастерская», которая откроется для зрителей накануне Нового года – 29 декабря. 
LOCATION: Государственный историко-художественный музей «Новый Иерусалим»
END:VEVENT
END:VCALENDAR
