BEGIN:VCALENDAR
VERSION:2.0
PRODID: -//Ximian//NONSGML Evolution Calendar//EN
CALSCALE:GREGORIAN
METHOD:PUBLISH
BEGIN:VEVENT
UID:69e6e3875b45a3.75374730@myapp
DTSTAMP:20260421T024007Z
DTSTART;VALUE=DATE:20230628
DTEND;VALUE=DATE:20230925
SUMMARY: Выставка «От отца — к сыну, от художника — к мастеру»
DESCRIPTION: Музей-заповедник «Абрамцево» приглашает на выставку «От отца — к сыну, от художника — к мастеру», которая открывается 28 июня.
LOCATION: Государственный историко-художественный и литературный музей-заповедник «Абрамцево»
END:VEVENT
END:VCALENDAR
