BEGIN:VCALENDAR
VERSION:2.0
PRODID: -//Ximian//NONSGML Evolution Calendar//EN
CALSCALE:GREGORIAN
METHOD:PUBLISH
BEGIN:VEVENT
UID:69ecb11d153d99.15663411@myapp
DTSTAMP:20260425T121837Z
DTSTART;VALUE=DATE:20211001
DTEND;VALUE=DATE:20211122
SUMMARY: Выставка «Лучше нет отрады, чем русские наряды»
DESCRIPTION: В экспозиции представлены этнографические костюмы из частной коллекции Натальи Волковой, Натальи Гайдис и Эльмиры Ахмедовой. 
LOCATION: Музей-заповедник «Дмитровский кремль»
END:VEVENT
END:VCALENDAR
