BEGIN:VCALENDAR
VERSION:2.0
PRODID: -//Ximian//NONSGML Evolution Calendar//EN
CALSCALE:GREGORIAN
METHOD:PUBLISH
BEGIN:VEVENT
UID:69e734a073f889.78028158@myapp
DTSTAMP:20260421T082608Z
DTSTART;VALUE=DATE:20201228
DTEND;VALUE=DATE:20210125
SUMMARY: Выставка «Спасенные истории»
DESCRIPTION: В здании бывших Присутственных мест гостей ждет сто произведений искусства из разных разделов музея.
LOCATION: Государственный музей-заповедник «Зарайский кремль»
END:VEVENT
END:VCALENDAR
