BEGIN:VCALENDAR
VERSION:2.0
PRODID: -//Ximian//NONSGML Evolution Calendar//EN
CALSCALE:GREGORIAN
METHOD:PUBLISH
BEGIN:VEVENT
UID:69e8533d869e93.36454707@myapp
DTSTAMP:20260422T044901Z
DTSTART:20211030T140000Z
DTEND:20211030T160000Z
SUMMARY: Спектакль «Шахерезада, Джинн и Аладдин»
DESCRIPTION: Театральная студия «Феникс» приглашает гостей на премьерные спектакли «Шахерезада, Джинн и Аладдин». 
LOCATION: Дворец культуры «РАТЕП»
END:VEVENT
BEGIN:VEVENT
UID:69e8533d86a0d3.74422098@myapp
DTSTAMP:20260422T044901Z
DTSTART:20211106T140000Z
DTEND:20211106T160000Z
SUMMARY: Спектакль «Шахерезада, Джинн и Аладдин»
DESCRIPTION: Театральная студия «Феникс» приглашает гостей на премьерные спектакли «Шахерезада, Джинн и Аладдин». 
LOCATION: Дворец культуры «РАТЕП»
END:VEVENT
END:VCALENDAR
