BEGIN:VCALENDAR
VERSION:2.0
PRODID: -//Ximian//NONSGML Evolution Calendar//EN
CALSCALE:GREGORIAN
METHOD:PUBLISH
BEGIN:VEVENT
UID:69e5969b7eb520.77506840@myapp
DTSTAMP:20260420T025939Z
DTSTART:20230927T110000Z
DTEND:20230927T130000Z
SUMMARY: Пешеходная экскурсия, посвященная полярному летчику Головину
DESCRIPTION: Наро-Фоминский историко-краеведческий музей вместе с инициативной группой проекта «Как медведь полярным стал» ко Дню туризма подготовил для жителей и гостей города – бесплатную тематическую пешеходную экскурсию «Наро-Фоминск – родина Героя СССР полярного летчика Павла Георгиевича Головина». Мероприятие пройдет 27 сентября.
LOCATION: Никольский храм
END:VEVENT
END:VCALENDAR
