BEGIN:VCALENDAR
VERSION:2.0
PRODID: -//Ximian//NONSGML Evolution Calendar//EN
CALSCALE:GREGORIAN
METHOD:PUBLISH
BEGIN:VEVENT
UID:69e89c2b906a50.43212322@myapp
DTSTAMP:20260422T100011Z
DTSTART:20211114T140000Z
DTEND:20211114T160000Z
SUMMARY: Концерт Большого симфонического оркестра им. П.И. Чайковского
DESCRIPTION: Государственный академический Большой симфонический оркестр имени П.И. Чайковского выступит в Клину 14 ноября. Концерт состоится в музее-заповеднике П.И. Чайковского.
LOCATION: Музей-заповедник П.И. Чайковского
END:VEVENT
END:VCALENDAR
