BEGIN:VCALENDAR
VERSION:2.0
PRODID: -//Ximian//NONSGML Evolution Calendar//EN
CALSCALE:GREGORIAN
METHOD:PUBLISH
BEGIN:VEVENT
UID:69ea31b22b4b29.52921267@myapp
DTSTAMP:20260423T145026Z
DTSTART:20231106T150000Z
DTEND:20231106T170000Z
SUMMARY: Концерт Елены Воробей
DESCRIPTION: В Павловском Посаде 6 ноября состоится концерт Елены Воробей. Зрителей ждут во дворце культуры «Павлово-Покровский» в 18:00.
LOCATION: Дворец культуры «Павлово-Покровский»
END:VEVENT
END:VCALENDAR
