BEGIN:VCALENDAR
VERSION:2.0
PRODID: -//Ximian//NONSGML Evolution Calendar//EN
CALSCALE:GREGORIAN
METHOD:PUBLISH
BEGIN:VEVENT
UID:69eaa977055064.77277657@myapp
DTSTAMP:20260423T232127Z
DTSTART:20211127T110000Z
DTEND:20211127T130000Z
SUMMARY: Спектакль «Есенин. Поэт и женщины»
DESCRIPTION: В театральном центре «Жаворонки» в Одинцовском городском округе 27 ноября состоится показ спектакля «Есенин. Поэт и женщины». Постановка театра «Двое» пройдет в рамках театрального форума «Взмах крыла».
LOCATION: Театральный центр «Жаворонки» 
END:VEVENT
END:VCALENDAR
