BEGIN:VCALENDAR
VERSION:2.0
PRODID: -//Ximian//NONSGML Evolution Calendar//EN
CALSCALE:GREGORIAN
METHOD:PUBLISH
BEGIN:VEVENT
UID:69e4a663a86a09.95244208@myapp
DTSTAMP:20260419T095443Z
DTSTART:20211201T140000Z
DTEND:20211201T160000Z
SUMMARY: Праздник «Зажигаем огни на елке»
DESCRIPTION: В центральном городском парке города Орехово-Зуево 1 декабря состоится настоящий праздник – на новогодней елке зажгутся огни.  Начало мероприятия – в 17:00.
LOCATION: Центральный городской парк
END:VEVENT
END:VCALENDAR
