BEGIN:VCALENDAR
VERSION:2.0
PRODID: -//Ximian//NONSGML Evolution Calendar//EN
CALSCALE:GREGORIAN
METHOD:PUBLISH
BEGIN:VEVENT
UID:69e9d0770498f4.35013258@myapp
DTSTAMP:20260423T075535Z
DTSTART;VALUE=DATE:20231118
DTEND;VALUE=DATE:20240115
SUMMARY: Выставка «Императрица Спасского двора»
DESCRIPTION: К 205-летию И.С. Тургенева в Егорьевском историко-художественном музее открылась выставка №Императрица Спасского двора», посвященная матери великого русского писателя Варваре Петровне.
LOCATION: Егорьевский историко-художественный музей
END:VEVENT
END:VCALENDAR
