BEGIN:VCALENDAR
VERSION:2.0
PRODID: -//Ximian//NONSGML Evolution Calendar//EN
CALSCALE:GREGORIAN
METHOD:PUBLISH
BEGIN:VEVENT
UID:69e4da518cf585.46855932@myapp
DTSTAMP:20260419T133617Z
DTSTART:20240120T090000Z
DTEND:20240120T110000Z
SUMMARY: Праздничные мероприятия в парке имени Лямина
DESCRIPTION: Парк имени Лямина в Яхроме приглашает всех на праздничные мероприятия: 20 января здесь пройдет мероприятие «Крещенские народные гулянья», а 21-го – развлекательная программа «Затейка». Гости смогут познакомиться с народными традициями и обычаями празднования Крещения, поучаствовать в интересных старинных играх и зимних забавах и зарядиться позитивом. 
LOCATION:  Городской парк имени И.А. Лямина
END:VEVENT
BEGIN:VEVENT
UID:69e4da518cf6c9.72669617@myapp
DTSTAMP:20260419T133617Z
DTSTART:20240121T090000Z
DTEND:20240121T100000Z
SUMMARY: Праздничные мероприятия в парке имени Лямина
DESCRIPTION: Парк имени Лямина в Яхроме приглашает всех на праздничные мероприятия: 20 января здесь пройдет мероприятие «Крещенские народные гулянья», а 21-го – развлекательная программа «Затейка». Гости смогут познакомиться с народными традициями и обычаями празднования Крещения, поучаствовать в интересных старинных играх и зимних забавах и зарядиться позитивом. 
LOCATION:  Городской парк имени И.А. Лямина
END:VEVENT
END:VCALENDAR
