BEGIN:VCALENDAR
VERSION:2.0
PRODID: -//Ximian//NONSGML Evolution Calendar//EN
CALSCALE:GREGORIAN
METHOD:PUBLISH
BEGIN:VEVENT
UID:69e8963f6821e8.02156771@myapp
DTSTAMP:20260422T093455Z
DTSTART:20240309T080000Z
DTEND:20240309T100000Z
SUMMARY: Масленица в Культурном центре «Лига»
DESCRIPTION: Культурный центр «Лига» в Коломне предлагает весело встретить весну и приглашает на праздничные программы для детей от театра «Пилигрим» 9 и 16 марта.
LOCATION: Культурный центр «Лига», площадка «Музподвал» 
END:VEVENT
BEGIN:VEVENT
UID:69e8963f682300.46967274@myapp
DTSTAMP:20260422T093455Z
DTSTART:20240316T080000Z
DTEND:20240316T100000Z
SUMMARY: Масленица в Культурном центре «Лига»
DESCRIPTION: Культурный центр «Лига» в Коломне предлагает весело встретить весну и приглашает на праздничные программы для детей от театра «Пилигрим» 9 и 16 марта.
LOCATION: Культурный центр «Лига», площадка «Музподвал» 
END:VEVENT
END:VCALENDAR
