BEGIN:VCALENDAR
VERSION:2.0
PRODID: -//Ximian//NONSGML Evolution Calendar//EN
CALSCALE:GREGORIAN
METHOD:PUBLISH
BEGIN:VEVENT
UID:69e791ebb45552.16730199@myapp
DTSTAMP:20260421T150411Z
DTSTART:20240421T130000Z
DTEND:20240421T150000Z
SUMMARY: Моноспектакль «На вяку, как на таку»
DESCRIPTION: Арт-пространство «Трикотажка Place» в Сергиевом Посаде приглашает зрителей на моноспектакль Екатерины Ряжских «На вяку, как на таку».
LOCATION: Арт-пространство «Трикотажка Place»
END:VEVENT
END:VCALENDAR
