BEGIN:VCALENDAR
VERSION:2.0
PRODID: -//Ximian//NONSGML Evolution Calendar//EN
CALSCALE:GREGORIAN
METHOD:PUBLISH
BEGIN:VEVENT
UID:69eae479c135e3.36848101@myapp
DTSTAMP:20260424T033313Z
DTSTART:20240403T070000Z
DTEND:20240526T150000Z
SUMMARY: Историко-художественная выставка «Величие: страна и люди»
DESCRIPTION: Выставочный комплекс «Артишок» в парке имени Л.Н. Толстого в Химках приглашает на бесплатную выставку «Величие: страна и люди».
LOCATION: Музейно-выставочный комплекс «Артишок»
END:VEVENT
END:VCALENDAR
