BEGIN:VCALENDAR
VERSION:2.0
PRODID: -//Ximian//NONSGML Evolution Calendar//EN
CALSCALE:GREGORIAN
METHOD:PUBLISH
BEGIN:VEVENT
UID:69eae93becea93.02082180@myapp
DTSTAMP:20260424T035331Z
DTSTART:20240420T080000Z
DTEND:20240420T100000Z
SUMMARY: Концептуальный экскурсионный маршрут «Город двух»
DESCRIPTION: В Дмитрове 20 апреля пройдет интересная концептуальная экскурсия «Город двух». Участники посетят два мемориальных музея города – дом Петра Кропоткина и дом сщмч. Серафима (Звездинского).
LOCATION: Музей-заповедник «Дмитровский кремль» 
END:VEVENT
END:VCALENDAR
