BEGIN:VCALENDAR
VERSION:2.0
PRODID: -//Ximian//NONSGML Evolution Calendar//EN
CALSCALE:GREGORIAN
METHOD:PUBLISH
BEGIN:VEVENT
UID:69e53eabb7f311.45162697@myapp
DTSTAMP:20260419T204427Z
DTSTART;VALUE=DATE:20220114
DTEND;VALUE=DATE:20220213
SUMMARY: Выставка «Вижу. Люблю. Рисую»
DESCRIPTION: Персональная выставка преподавателя художественного отделения Мещеринской школы искусств Татьяны Устиновой будет работать с 14 января по 12 февраля.
LOCATION: Художественная галерея «Ника» 
END:VEVENT
END:VCALENDAR
