BEGIN:VCALENDAR
VERSION:2.0
PRODID: -//Ximian//NONSGML Evolution Calendar//EN
CALSCALE:GREGORIAN
METHOD:PUBLISH
BEGIN:VEVENT
UID:69ea402e3b4a55.05963990@myapp
DTSTAMP:20260423T155214Z
DTSTART:20240427T170000Z
DTEND:20240427T190000Z
SUMMARY: Юбилейный концерт группы «Любэ»
DESCRIPTION: Группа «Любэ» отметит 35-летие творческой деятельности 27 апреля на сцене Делового комплекса «Мир» в Реутове.
LOCATION: Деловой комплекс «Мир»
END:VEVENT
END:VCALENDAR
