BEGIN:VCALENDAR
VERSION:2.0
PRODID: -//Ximian//NONSGML Evolution Calendar//EN
CALSCALE:GREGORIAN
METHOD:PUBLISH
BEGIN:VEVENT
UID:69eb932567bdb0.18579260@myapp
DTSTAMP:20260424T155829Z
DTSTART;VALUE=DATE:20240507
DTEND;VALUE=DATE:20241028
SUMMARY: Выставка «Археологические открытия Подмосковья»
DESCRIPTION: Музей-заповедник «Дмитровский кремль» приглашает на выставку «Археологические открытия Подмосковья», посвященную 870-летию основания города Дмитрова. 
LOCATION: Музей-заповедник «Дмитровский кремль» 
END:VEVENT
END:VCALENDAR
