BEGIN:VCALENDAR
VERSION:2.0
PRODID: -//Ximian//NONSGML Evolution Calendar//EN
CALSCALE:GREGORIAN
METHOD:PUBLISH
BEGIN:VEVENT
UID:69e88e04425590.12888785@myapp
DTSTAMP:20260422T085948Z
DTSTART:20240524T153000Z
DTEND:20240524T180000Z
SUMMARY: Спектакль «Вечно живые» 
DESCRIPTION: Во дворце культуры имени Воровского в Раменском 24 мая состоится показ спектакля «Вечно живые» по одноименной пьесе Виктора Розова.
LOCATION: Дворец культуры имени В.В. Воровского
END:VEVENT
END:VCALENDAR
