BEGIN:VCALENDAR
VERSION:2.0
PRODID: -//Ximian//NONSGML Evolution Calendar//EN
CALSCALE:GREGORIAN
METHOD:PUBLISH
BEGIN:VEVENT
UID:69eb8710ee9ac8.37922094@myapp
DTSTAMP:20260424T150656Z
DTSTART:20240526T090000Z
DTEND:20240526T103500Z
SUMMARY: Спектакль «Сокровища капитана Флинта»
DESCRIPTION: В рамках межрегиональной программы «Большие гастроли» на сцене театрально-концертного центра «Щелковский театр» 26 мая покажут спектакль «Сокровища капитана Флинта» в постановке Камышинского драматического театра.
LOCATION: Театрально-концертный центр «Щелковский театр»
END:VEVENT
END:VCALENDAR
