BEGIN:VCALENDAR
VERSION:2.0
PRODID: -//Ximian//NONSGML Evolution Calendar//EN
CALSCALE:GREGORIAN
METHOD:PUBLISH
BEGIN:VEVENT
UID:69e8b444de92c0.04691488@myapp
DTSTAMP:20260422T114300Z
DTSTART:20240525T090000Z
DTEND:20240525T150000Z
SUMMARY: Мероприятие «Ярко в парках» в Богородском округе
DESCRIPTION: Одно из самых ярких событий уходящей весны ждет жителей и гостей Богородского округа 25 мая! В этот день сразу в трех парках – Центральном, Глуховском и «Липовой аллее» – пройдет фестиваль «Ярко в парках».
LOCATION: Центральный парк, Глуховский парк, парк «Липовая аллея» 
END:VEVENT
END:VCALENDAR
