BEGIN:VCALENDAR
VERSION:2.0
PRODID: -//Ximian//NONSGML Evolution Calendar//EN
CALSCALE:GREGORIAN
METHOD:PUBLISH
BEGIN:VEVENT
UID:69eac974b83238.44629961@myapp
DTSTAMP:20260424T013756Z
DTSTART;VALUE=DATE:20240518
DTEND;VALUE=DATE:20240701
SUMMARY: Выставка «Мой Пушкин»
DESCRIPTION: В музее-заповеднике «Абрамцево» 18 мая открылась выставка «Мой Пушкин», посвященная 225-летию поэта.
LOCATION: Государственный историко-художественный и литературный музей-заповедник «Абрамцево»
END:VEVENT
END:VCALENDAR
