BEGIN:VCALENDAR
VERSION:2.0
PRODID: -//Ximian//NONSGML Evolution Calendar//EN
CALSCALE:GREGORIAN
METHOD:PUBLISH
BEGIN:VEVENT
UID:69eb3a1e3aa664.87817720@myapp
DTSTAMP:20260424T093838Z
DTSTART:20240612T080000Z
DTEND:20240612T120000Z
SUMMARY: День России в городе Фрязино
DESCRIPTION: День России отметят во Фрязинском лесопарке 12 июня масштабным праздничным мероприятием.
LOCATION: Фрязинский лесопарк
END:VEVENT
END:VCALENDAR
