BEGIN:VCALENDAR
VERSION:2.0
PRODID: -//Ximian//NONSGML Evolution Calendar//EN
CALSCALE:GREGORIAN
METHOD:PUBLISH
BEGIN:VEVENT
UID:69ea7e2fca19d5.98964213@myapp
DTSTAMP:20260423T201647Z
DTSTART;VALUE=DATE:20240613
DTEND;VALUE=DATE:20240909
SUMMARY: Выставка «Художник русского платка»
DESCRIPTION: В Электростали открывается выставка «Художник русского платка», приуроченная к 30-летию Музейно-выставочного центра и посвященная памяти художника Семену Рыжову.
LOCATION: Историко-художественный музей имени И.И. Алексеева 
END:VEVENT
END:VCALENDAR
