BEGIN:VCALENDAR
VERSION:2.0
PRODID: -//Ximian//NONSGML Evolution Calendar//EN
CALSCALE:GREGORIAN
METHOD:PUBLISH
BEGIN:VEVENT
UID:69e7c23a79dec9.30497341@myapp
DTSTAMP:20260421T183018Z
DTSTART;VALUE=DATE:20240530
DTEND;VALUE=DATE:20240701
SUMMARY: Выставка «Чудесная страна» 
DESCRIPTION: В Мытищинской галерее искусств 30 мая открылась выставка «Чудесная страна». В экспозиции будут представлены более 200 работ юных художников – учащихся художественных школ и школ искусств городского округа.
LOCATION: Мытищинская галерея искусств
END:VEVENT
END:VCALENDAR
