BEGIN:VCALENDAR
VERSION:2.0
PRODID: -//Ximian//NONSGML Evolution Calendar//EN
CALSCALE:GREGORIAN
METHOD:PUBLISH
BEGIN:VEVENT
UID:69e77dd702fd89.56785946@myapp
DTSTAMP:20260421T133831Z
DTSTART:20240625T163000Z
DTEND:20240625T180000Z
SUMMARY: Спектакль «Суп из канарейки»
DESCRIPTION: Во Дворце культуры «Балашиха» 25 июня покажут спектакль «Суп из Канарейки» . Это одна из лучших комедийных постановок режиссера Романа Самгина по произведению популярного сербского драматурга, сценариста и режиссера Милоша Радовича.
LOCATION: Дворец культуры «Балашиха» 
END:VEVENT
END:VCALENDAR
