BEGIN:VCALENDAR
VERSION:2.0
PRODID: -//Ximian//NONSGML Evolution Calendar//EN
CALSCALE:GREGORIAN
METHOD:PUBLISH
BEGIN:VEVENT
UID:69e7010c213037.72254602@myapp
DTSTAMP:20260421T044604Z
DTSTART:20240621T140000Z
DTEND:20240621T160000Z
SUMMARY: Турнир по фиджитал-футболу
DESCRIPTION: Всех любителей футбола ждет интересное событие – первый турнир по фиджитал-футболу, который пройдет 21 июня в Молодежном пространстве «4К» в Домодедове. Он объединит в себе классический футбол и виртуальный мир.
LOCATION: Молодежное пространство «4К»
END:VEVENT
END:VCALENDAR
