BEGIN:VCALENDAR
VERSION:2.0
PRODID: -//Ximian//NONSGML Evolution Calendar//EN
CALSCALE:GREGORIAN
METHOD:PUBLISH
BEGIN:VEVENT
UID:69eb6fa5e2bcb9.22653366@myapp
DTSTAMP:20260424T132701Z
DTSTART;VALUE=DATE:20240713
DTEND;VALUE=DATE:20240715
SUMMARY: «Культурный код Подмосковья» в Жуковском
DESCRIPTION: Общеобластное мероприятия «Культурный код Подмосковья» пройдет в Жуковском 13 и 14 июля. Гостей ждут в сквере 28-й квартал. 
LOCATION: Сквер 28-й квартал 
END:VEVENT
END:VCALENDAR
