BEGIN:VCALENDAR
VERSION:2.0
PRODID: -//Ximian//NONSGML Evolution Calendar//EN
CALSCALE:GREGORIAN
METHOD:PUBLISH
BEGIN:VEVENT
UID:69eb553f68a8a8.95823570@myapp
DTSTAMP:20260424T113423Z
DTSTART;VALUE=DATE:20240801
DTEND;VALUE=DATE:20240916
SUMMARY: Выставка «Живое дерево Инессы и Рашида Азбухановых»
DESCRIPTION: В музее-заповеднике «Абрамцево» 1 августа открывается выставка «Образ времени. XX век. Живое дерево Инессы и Рашида Азбухановых», которая представляет посетителям два направления творчества дмитровских художников: резную икону и рельефные панно в стиле метасимволизма.
LOCATION: Государственный историко-художественный и литературный музей-заповедник «Абрамцево»
END:VEVENT
END:VCALENDAR
