BEGIN:VCALENDAR
VERSION:2.0
PRODID: -//Ximian//NONSGML Evolution Calendar//EN
CALSCALE:GREGORIAN
METHOD:PUBLISH
BEGIN:VEVENT
UID:69e592fbb9f178.08066837@myapp
DTSTAMP:20260420T024411Z
DTSTART:20240804T120000Z
DTEND:20240804T133000Z
SUMMARY: Мастер-класс «Твой пейзаж, твоя экскурсия»
DESCRIPTION: В Звенигородском манеже 4 августа пройдет мастер-класс для подростков «Твой пейзаж, твоя экскурсия». Это мероприятие объединит в себе увлекательную экскурсию по выставке и знакомство с творчеством известных художников-пейзажистов, а также подготовку своих проектов – мини-эксурсий.
LOCATION: Звенигородский государственный музей-заповедник (Звенигородский манеж)
END:VEVENT
END:VCALENDAR
