BEGIN:VCALENDAR
VERSION:2.0
PRODID: -//Ximian//NONSGML Evolution Calendar//EN
CALSCALE:GREGORIAN
METHOD:PUBLISH
BEGIN:VEVENT
UID:69e4e767cd35f2.92150760@myapp
DTSTAMP:20260419T143207Z
DTSTART;VALUE=DATE:20240805
DTEND;VALUE=DATE:20240831
SUMMARY: Выставка «Акценты»
DESCRIPTION: В культурно-эстетическом центре Дзержинского 5 августа начнет работать выставка «Акценты», на которой будут представлены работы художницы Татьяны Чадаевой.
LOCATION: Культурно-эстетический центр
END:VEVENT
END:VCALENDAR
