BEGIN:VCALENDAR
VERSION:2.0
PRODID: -//Ximian//NONSGML Evolution Calendar//EN
CALSCALE:GREGORIAN
METHOD:PUBLISH
BEGIN:VEVENT
UID:69eb2a22cf2746.67356014@myapp
DTSTAMP:20260424T083026Z
DTSTART:20240928T070000Z
DTEND:20240928T100000Z
SUMMARY: Всероссийский конкурс-фестиваль «Серебряный аист»
DESCRIPTION: В Коломне 28 сентября пройдет всероссийский конкурс-фестиваль хореографического, вокально-инструментального и сценического мастерства «Серебряный аист». 
LOCATION: Дворец культуры «Коломна» 
END:VEVENT
END:VCALENDAR
