BEGIN:VCALENDAR
VERSION:2.0
PRODID: -//Ximian//NONSGML Evolution Calendar//EN
CALSCALE:GREGORIAN
METHOD:PUBLISH
BEGIN:VEVENT
UID:69e652c0d24fd4.58004849@myapp
DTSTAMP:20260420T162224Z
DTSTART:20241006T150000Z
DTEND:20241006T174500Z
SUMMARY: Трагикомедия «Визит старой дамы»
DESCRIPTION: Театрально-концертный центр «Щелковский театр» приглашает на спектакль «Визит старой дамы» по пьесе швейцарского прозаика и драматурга Фридриха Дюрренматта. Это трагикомедия о том, на что способна женщина, чтобы отомстить за предательство.
LOCATION: Театрально-концертный центр «Щелковский театр»
END:VEVENT
END:VCALENDAR
